BEGIN:VCALENDAR
VERSION:2.0
PRODID:-//BORG Nonntal - ECPv5.16.4//NONSGML v1.0//EN
CALSCALE:GREGORIAN
METHOD:PUBLISH
X-WR-CALNAME:BORG Nonntal
X-ORIGINAL-URL:https://borgnonntal.at
X-WR-CALDESC:Veranstaltungen für BORG Nonntal
BEGIN:VTIMEZONE
TZID:Europe/Berlin
BEGIN:DAYLIGHT
TZOFFSETFROM:+0100
TZOFFSETTO:+0200
TZNAME:CEST
DTSTART:20220327T010000
END:DAYLIGHT
BEGIN:STANDARD
TZOFFSETFROM:+0200
TZOFFSETTO:+0100
TZNAME:CET
DTSTART:20221030T010000
END:STANDARD
END:VTIMEZONE
BEGIN:VEVENT
DTSTART;VALUE=DATE:20220927
DTEND;VALUE=DATE:20220928
DTSTAMP:20260421T164146
CREATED:20220911T145322Z
LAST-MODIFIED:20220911T145322Z
UID:10456-1664236800-1664323199@borgnonntal.at
SUMMARY:vorgezogene RP Chemie 8A + 8ED\, 8ES
DESCRIPTION:
URL:https://borgnonntal.at/event/vorgezogene-rp-chemie-8a-8ed-8es/
END:VEVENT
END:VCALENDAR