BEGIN:VCALENDAR
VERSION:2.0
PRODID:-//BORG Nonntal - ECPv5.16.4//NONSGML v1.0//EN
CALSCALE:GREGORIAN
METHOD:PUBLISH
X-WR-CALNAME:BORG Nonntal
X-ORIGINAL-URL:https://borgnonntal.at
X-WR-CALDESC:Veranstaltungen für BORG Nonntal
BEGIN:VTIMEZONE
TZID:Europe/Berlin
BEGIN:DAYLIGHT
TZOFFSETFROM:+0100
TZOFFSETTO:+0200
TZNAME:CEST
DTSTART:20220327T010000
END:DAYLIGHT
BEGIN:STANDARD
TZOFFSETFROM:+0200
TZOFFSETTO:+0100
TZNAME:CET
DTSTART:20221030T010000
END:STANDARD
END:VTIMEZONE
BEGIN:VEVENT
DTSTART;VALUE=DATE:20220915
DTEND;VALUE=DATE:20220917
DTSTAMP:20260421T121150
CREATED:20220911T144802Z
LAST-MODIFIED:20220911T144802Z
UID:10438-1663200000-1663372799@borgnonntal.at
SUMMARY:1.-Hilfekurs 6A\, 6B
DESCRIPTION:
URL:https://borgnonntal.at/event/1-hilfekurs-6a-6b/
END:VEVENT
BEGIN:VEVENT
DTSTART;VALUE=DATE:20220916
DTEND;VALUE=DATE:20220917
DTSTAMP:20260421T121150
CREATED:20220911T144354Z
LAST-MODIFIED:20220911T144354Z
UID:10430-1663286400-1663372799@borgnonntal.at
SUMMARY:Wandertag für 5A\, 5C\, 5D
DESCRIPTION:
URL:https://borgnonntal.at/event/wandertag-fuer-5a-5c-5d/
END:VEVENT
END:VCALENDAR