BEGIN:VCALENDAR
VERSION:2.0
PRODID:-//BORG Nonntal - ECPv5.16.4//NONSGML v1.0//EN
CALSCALE:GREGORIAN
METHOD:PUBLISH
X-WR-CALNAME:BORG Nonntal
X-ORIGINAL-URL:https://borgnonntal.at
X-WR-CALDESC:Veranstaltungen für BORG Nonntal
BEGIN:VTIMEZONE
TZID:Europe/Berlin
BEGIN:DAYLIGHT
TZOFFSETFROM:+0100
TZOFFSETTO:+0200
TZNAME:CEST
DTSTART:20260329T010000
END:DAYLIGHT
BEGIN:STANDARD
TZOFFSETFROM:+0200
TZOFFSETTO:+0100
TZNAME:CET
DTSTART:20261025T010000
END:STANDARD
END:VTIMEZONE
BEGIN:VEVENT
DTSTART;VALUE=DATE:20260417
DTEND;VALUE=DATE:20260418
DTSTAMP:20260424T030107
CREATED:20260215T102534Z
LAST-MODIFIED:20260215T102534Z
UID:13268-1776384000-1776470399@borgnonntal.at
SUMMARY:Notenschluss 8.Klassen
DESCRIPTION:
URL:https://borgnonntal.at/event/notenschluss-8-klassen-2/
END:VEVENT
BEGIN:VEVENT
DTSTART;TZID=Europe/Berlin:20260417T150000
DTEND;TZID=Europe/Berlin:20260417T180000
DTSTAMP:20260424T030107
CREATED:20251021T091708Z
LAST-MODIFIED:20251021T091708Z
UID:12975-1776438000-1776448800@borgnonntal.at
SUMMARY:Elternsprechtag
DESCRIPTION:
URL:https://borgnonntal.at/event/elternsprechtag-5/
END:VEVENT
BEGIN:VEVENT
DTSTART;VALUE=DATE:20260420
DTEND;VALUE=DATE:20260425
DTSTAMP:20260424T030107
CREATED:20260215T103125Z
LAST-MODIFIED:20260215T103125Z
UID:13272-1776643200-1777075199@borgnonntal.at
SUMMARY:VWA-Präsentationen
DESCRIPTION:
URL:https://borgnonntal.at/event/vwa-praesentationen-7/
END:VEVENT
BEGIN:VEVENT
DTSTART;TZID=Europe/Berlin:20260422T000000
DTEND;TZID=Europe/Berlin:20260422T000000
DTSTAMP:20260424T030107
CREATED:20260215T103307Z
LAST-MODIFIED:20260215T103307Z
UID:13274-1776816000-1776816000@borgnonntal.at
SUMMARY:Zulassungskonferenz 8. Klassen
DESCRIPTION:
URL:https://borgnonntal.at/event/zulassungskonferenz-8-klassen/
END:VEVENT
BEGIN:VEVENT
DTSTART;VALUE=DATE:20260427
DTEND;VALUE=DATE:20260429
DTSTAMP:20260424T030107
CREATED:20260215T103349Z
LAST-MODIFIED:20260215T103349Z
UID:13276-1777248000-1777420799@borgnonntal.at
SUMMARY:Wiederholungsprüfungen 8. Klasse
DESCRIPTION:
URL:https://borgnonntal.at/event/wiederholungspruefungen-8-klasse/
END:VEVENT
BEGIN:VEVENT
DTSTART;TZID=Europe/Berlin:20260430T080000
DTEND;TZID=Europe/Berlin:20260430T170000
DTSTAMP:20260424T030107
CREATED:20260215T103428Z
LAST-MODIFIED:20260215T103428Z
UID:13278-1777536000-1777568400@borgnonntal.at
SUMMARY:letzter Schultag 8. Klassen
DESCRIPTION:
URL:https://borgnonntal.at/event/letzter-schultag-8-klassen-2/
END:VEVENT
BEGIN:VEVENT
DTSTART;TZID=Europe/Berlin:20260501T080000
DTEND;TZID=Europe/Berlin:20260501T170000
DTSTAMP:20260424T030107
CREATED:20260215T103526Z
LAST-MODIFIED:20260215T103526Z
UID:13280-1777622400-1777654800@borgnonntal.at
SUMMARY:Feiertag- unterrichtsfrei
DESCRIPTION:
URL:https://borgnonntal.at/event/feiertag-unterrichtsfrei/
END:VEVENT
END:VCALENDAR